BEGIN:VCALENDAR
VERSION:2.0
METHOD:PUBLISH
X-WR-CALNAME:VFEK |  július 05 2010- július 12 2010
PRODID:-//strange bird labs//Drupal iCal API//EN
BEGIN:VEVENT
DTSTAMP;VALUE=DATE-TIME:20260420T110118Z
DTSTART;VALUE=DATE-TIME:20100706T160000Z
DTEND;VALUE=DATE-TIME:20100730T170000Z
UID:http://portal.vfmk.hu/20100701_1
URL;VALUE=URI:http://portal.vfmk.hu/20100701_1
SUMMARY:Bozsó Nóra kiállítása
DESCRIPTION:<p class=\\"rtecenter\\"><span style=\\"font-family\: Verdana\; \\"><span style=\\"font-size\: small\; \\">&nbsp\;<em><strong>A Verseghy Ferenc Megyei K&ouml\;nyvt&aacute\;r &eacute\;s Művelőd&eacute\;si Int&eacute\;zet</strong></em><br />
 tisztelettel megh&iacute\;vja &Ouml\;nt</span></span></p>
 <p class=\\"rtecenter\\"><strong><span style=\\"font-family\: Verdana\; \\"><span style=\\"font-size\: small\; \\">BOZS&Oacute\; N&Oacute\;RA</span></span></strong><span style=\\"font-family\: Verdana\; \\"><span style=\\"font-size\: small\; \\"><br />
 ki&aacute\;ll&iacute\;t&aacute\;s&aacute\;nak megnyit&oacute\;j&aacute\;ra</span></span></p>
 <p class=\\"rtecenter\\"><strong><span style=\\"font-family\: Verdana\; \\"><span style=\\"font-size\: small\; \\">2010. j&uacute\;lius 6-&aacute\;n 17.00 &oacute\;r&aacute\;ra</span></span></strong><span style=\\"font-family\: Verdana\; \\"><span style=\\"font-size\: small\; \\"><br />
 a<br />
 Műv&eacute\;szeti Szalonba.<br />
 (Szolnok\, Kossuth t&eacute\;r 2.)</span></span></p>
 <p class=\\"rtecenter\\"><span style=\\"font-family\: Verdana\; \\"><span style=\\"font-size\: small\; \\">A t&aacute\;rlatot<br />
 <strong>BOSNY&Aacute\;K ZSUZSA</strong><br />
 k&eacute\;pzőműv&eacute\;sz nyitja meg.</span></span></p>
 <p class=\\"rtecenter\\"><span style=\\"font-family\: Verdana\; \\"><span style=\\"font-size\: small\; \\">A ki&aacute\;ll&iacute\;t&aacute\;s megtekinthető j&uacute\;lius 30-ig<br />
 a k&ouml\;nyvt&aacute\;r nyitvatart&aacute\;si idej&eacute\;ben<br />
 (keddtől p&eacute\;ntekig 10.00 &oacute\;r&aacute\;t&oacute\;l 18.00 &oacute\;r&aacute\;ig).</span></span></p>
END:VEVENT
END:VCALENDAR
