BEGIN:VCALENDAR
VERSION:2.0
METHOD:PUBLISH
X-WR-CALNAME:VFEK |  február 15 2010- február 22 2010
PRODID:-//strange bird labs//Drupal iCal API//EN
BEGIN:VEVENT
DTSTAMP;VALUE=DATE-TIME:20260420T103949Z
DTSTART;VALUE=DATE-TIME:20100217T150000Z
DTEND;VALUE=DATE-TIME:20100217T150000Z
UID:http://portal.vfmk.hu/0111/20100211/1
URL;VALUE=URI:http://portal.vfmk.hu/0111/20100211/1
SUMMARY:Kiállítás
DESCRIPTION:<p class=\\"rtejustify\\"><span style=\\"font-size\: small\; \\"><span style=\\"font-family\: Verdana\; \\">A Verseghy Ferenc Megyei K&ouml\;nyvt&aacute\;r &eacute\;s Művelőd&eacute\;si Int&eacute\;zet tisztelettel megh&iacute\;vja &Ouml\;nt &eacute\;s bar&aacute\;tait <strong>Nagy Katalin Matild</strong> grafikusműv&eacute\;sz &eacute\;s <strong>Nagy D&eacute\;nes</strong> festőműv&eacute\;sz ki&aacute\;ll&iacute\;t&aacute\;s&aacute\;nak megnyit&oacute\;j&aacute\;ra\, <em>2010. febru&aacute\;r 17</em>-&eacute\;n szerd&aacute\;n <em>16.00</em> &oacute\;rakor a <em>Műv&eacute\;szeti Szalon</em>ba.<br type=\\"_moz\\" />
 </span></span></p>
 <p><span style=\\"font-size\: small\; \\"><span style=\\"font-family\: Verdana\; \\">A ki&aacute\;ll&iacute\;t&aacute\;st <strong>R&eacute\;vi Norbert</strong> szobr&aacute\;szműv&eacute\;sz nyitja meg.</span></span></p>
END:VEVENT
BEGIN:VEVENT
DTSTAMP;VALUE=DATE-TIME:20260420T103949Z
DTSTART;VALUE=DATE-TIME:20100220T090000Z
DTEND;VALUE=DATE-TIME:20100220T090000Z
UID:http://portal.vfmk.hu/node/971
URL;VALUE=URI:http://portal.vfmk.hu/node/971
SUMMARY:Népdaléneklés
DESCRIPTION:<p class=\\"rtejustify\\"><span style=\\"color\: rgb(0\, 136\, 0)\; \\"><span style=\\"font-size\: small\; \\"><span style=\\"font-family\: 'Comic Sans MS'\; \\">&nbsp\;Szeretettel h&iacute\;vom\, v&aacute\;rom a felnőtteket\, gyermekeket N&eacute\;pdal&eacute\;nekl&eacute\;s foglalkoz&aacute\;somra.</span></span></span></p>
 <p class=\\"rteright\\"><span style=\\"color\: rgb(0\, 136\, 0)\; \\"><span style=\\"font-size\: small\; \\"><span style=\\"font-family\: 'Comic Sans MS'\; \\">&quot\;A n&eacute\;pdal mint\, &eacute\;kszer\, &eacute\;letet akkor kap\, ha viselik.<br />
 Min&eacute\;l t&ouml\;bbek&eacute\; lesz\,&nbsp\;ann&aacute\;l nagyobb lesz vil&aacute\;g&iacute\;t&oacute\; &eacute\;s meleg&iacute\;tő ereje&quot\;</span></span></span></p>
 <p class=\\"rteright\\"><span style=\\"color\: rgb(0\, 136\, 0)\; \\"><span style=\\"font-size\: small\; \\"><span style=\\"font-family\: 'Comic Sans MS'\; \\">(Kod&aacute\;ly Zolt&aacute\;n)</span></span></span></p>
 <p class=\\"rtejustify\\"><span style=\\"color\: rgb(0\, 136\, 0)\; \\"><span style=\\"font-size\: small\; \\"><span style=\\"font-family\: 'Comic Sans MS'\; \\">A foglalkoz&aacute\;s l&eacute\;nyege\, hogy azokat a n&eacute\;pdalokat\, amelyeket &eacute\;n ismerek\,&nbsp\;sz&iacute\;vesen megtan&iacute\;tom el&eacute\;nekelni kinek-kinek kedve szerint.<br />
 A foglalkoz&aacute\;st Magyarn&eacute\; Szűcs Erika\, a Szolnoki N&eacute\;pdalk&ouml\;r tagja&nbsp\;vezeti.</span></span></span></p>
 <p><span style=\\"color\: rgb(0\, 136\, 0)\; \\"><span style=\\"font-size\: small\; \\"><span style=\\"font-family\: 'Comic Sans MS'\; \\">Helysz&iacute\;n\: gyermekk&ouml\;nyvt&aacute\;r<br />
 A programon val&oacute\; r&eacute\;szv&eacute\;tel ingyenes!<br />
 Időpont\:&nbsp\;2010. febru&aacute\;r 20. (szombat) 10 &oacute\;ra</span></span></span></p>
END:VEVENT
END:VCALENDAR
