BEGIN:VCALENDAR
VERSION:2.0
METHOD:PUBLISH
X-WR-CALNAME:VFEK |  november 14 2008- december 14 2008
PRODID:-//strange bird labs//Drupal iCal API//EN
BEGIN:VEVENT
DTSTAMP;VALUE=DATE-TIME:20260420T220339Z
DTSTART;VALUE=DATE-TIME:20081115T090000Z
DTEND;VALUE=DATE-TIME:20081115T090000Z
UID:http://portal.vfmk.hu/020420080707
URL;VALUE=URI:http://portal.vfmk.hu/020420080707
SUMMARY:Családi mesedélelőtt a gyermekkönyvtárban
DESCRIPTION:<p>&nbsp\;</p>
 <p><span style=\\"color\: rgb(0\, 136\, 0)\;\\"><span style=\\"font-family\: 'Comic Sans MS'\;\\">Diafilmvet&iacute\;t&eacute\;sre h&iacute\;vunk benneteket k&ouml\;nyvt&aacute\;runkba\, ahol <b>Ti</b> fogj&aacute\;tok eld&ouml\;nteni\, hogy melyik mesefilmet n&eacute\;zitek meg.</span></span></p>
 <p><span style=\\"color\: rgb(0\, 136\, 0)\;\\"><span style=\\"font-family\: 'Comic Sans MS'\;\\">V&aacute\;logathattok t&ouml\;bbek k&ouml\;z&ouml\;tt <i><b>Ludas Matyi</b></i>\, <i><b>Boribon a j&aacute\;t&eacute\;kmack&oacute\;</b></i>\,&nbsp\;vagy <i><b>Hamupipőke</b></i> izgalmas mes&eacute\;i k&ouml\;z&uuml\;l.</span></span></p>
 <p><span style=\\"color\: rgb(0\, 136\, 0)\;\\"><span style=\\"font-family\: 'Comic Sans MS'\;\\"><b>Időpont\:</b> 2008. november 15. (szombat) 10 &oacute\;r&aacute\;t&oacute\;l 12 &oacute\;r&aacute\;ig<br />
 <b>Helysz&iacute\;n\:</b> Gyermekk&ouml\;nyvt&aacute\;runk Mesebirodalma</span></span></p>
 <p class=\\"rtecenter\\"><span style=\\"color\: rgb(0\, 136\, 0)\;\\"><span style=\\"font-family\: 'Comic Sans MS'\;\\">Mindenkit szeretettel v&aacute\;runk\, hozz&aacute\;tok magatokkal testv&eacute\;reteket\, bar&aacute\;taitokat is!</span></span></p>
 <p class=\\"rteright\\"><span style=\\"color\: rgb(0\, 136\, 0)\;\\"><span style=\\"font-family\: 'Comic Sans MS'\;\\"><i>A bel&eacute\;p&eacute\;s ingyenes!</i></span></span></p>
 <p>&nbsp\;</p>
END:VEVENT
BEGIN:VEVENT
DTSTAMP;VALUE=DATE-TIME:20260420T220339Z
DTSTART;VALUE=DATE-TIME:20081126T150000Z
DTEND;VALUE=DATE-TIME:20081126T163000Z
UID:http://portal.vfmk.hu/011120081126
URL;VALUE=URI:http://portal.vfmk.hu/011120081126
SUMMARY:Kerekes Tamás és Rentz Mátyás
DESCRIPTION:<p class=\\"rtejustify\\"><span style=\\"font-size\: x-small\;\\"><span style=\\"font-family\: Verdana\;\\">A Műv&eacute\;szeti Szalonban <b>november 26</b>-&aacute\;n 16.00 &oacute\;rai kezdettel <b>Kerekes Tam&aacute\;s</b> &eacute\;s <b>Rentz M&aacute\;ty&aacute\;s</b> műveivel ismerkedhetnek meg az &eacute\;rdeklődők. A besz&eacute\;lget&eacute\;st <b>Lengyel Boldizs&aacute\;r</b> &uacute\;js&aacute\;g&iacute\;r&oacute\; vezeti.</span></span></p>
END:VEVENT
BEGIN:VEVENT
DTSTAMP;VALUE=DATE-TIME:20260420T220339Z
DTSTART;VALUE=DATE-TIME:20081129T090000Z
DTEND;VALUE=DATE-TIME:20081129T110000Z
UID:http://portal.vfmk.hu/02042008112703
URL;VALUE=URI:http://portal.vfmk.hu/02042008112703
SUMMARY:Adventi játszóház családok részére
DESCRIPTION:<p class=\\"rtejustify\\"><span style=\\"font-size\: small\;\\"><span style=\\"color\: rgb(0\, 136\, 0)\;\\"><span><span style=\\"font-family\: Comic Sans MS\;\\">J&aacute\;tsz&oacute\;h&aacute\;zba h&iacute\;vjuk\, v&aacute\;rjuk a kicsiket &eacute\;s nagyokat\, ahol a k&ouml\;zelgő &uuml\;nnepre lehet meglepet&eacute\;seket k&eacute\;sz&iacute\;teni!</span></span></span></span></p>
 <p class=\\"rtejustify\\"><span style=\\"font-size\: small\;\\"><span style=\\"color\: rgb(0\, 136\, 0)\;\\"><span><span style=\\"font-family\: Comic Sans MS\;\\">Időpont\: <b>2008. november 29. (szombat) 10 &oacute\;r&aacute\;t&oacute\;l 12 &oacute\;r&aacute\;ig</b></span></span></span></span></p>
 <p class=\\"rtejustify\\"><span style=\\"font-size\: small\;\\"><span style=\\"color\: rgb(0\, 136\, 0)\;\\"><span><span style=\\"font-family\: Comic Sans MS\;\\"><b>Helysz&iacute\;n\:</b> Verseghy Ferenc Megyei K&ouml\;nyvt&aacute\;r &eacute\;s Művelőd&eacute\;si Int&eacute\;zet Szolnok\, Kossuth t&eacute\;r 2.</span></span></span></span></p>
 <p class=\\"rteright\\"><span style=\\"font-size\: small\;\\"><span style=\\"color\: rgb(0\, 136\, 0)\;\\"><span><span style=\\"font-family\: Comic Sans MS\;\\">Mindenkit szeretettel v&aacute\;runk\,<br />
 hozz&aacute\;tok magatokkal testv&eacute\;reteket\, bar&aacute\;taitokat is!</span></span></span></span></p>
 <p class=\\"rtecenter\\"><b><span style=\\"font-size\: small\;\\"><span style=\\"color\: rgb(0\, 136\, 0)\;\\"><span><span style=\\"font-family\: Comic Sans MS\;\\">A bel&eacute\;p&eacute\;s ingyenes!</span></span></span></span></b><br />
 <br />
 &nbsp\;</p>
END:VEVENT
BEGIN:VEVENT
DTSTAMP;VALUE=DATE-TIME:20260420T220339Z
DTSTART;VALUE=DATE-TIME:20081206T090000Z
DTEND;VALUE=DATE-TIME:20081206T110000Z
UID:http://portal.vfmk.hu/02042008112704
URL;VALUE=URI:http://portal.vfmk.hu/02042008112704
SUMMARY:Két Mikulás nem fér meg egy erdőben
DESCRIPTION:<p class=\\"rtecenter\\"><b><span style=\\"color\: rgb(0\, 136\, 0)\;\\"><span style=\\"font-family\: Comic Sans MS\;\\">B&aacute\;belőad&aacute\;sra h&iacute\;vunk benneteket k&ouml\;nyvt&aacute\;runkba!</span></span></b></p>
 <p class=\\"rtecenter\\"><span style=\\"color\: rgb(0\, 136\, 0)\;\\"><span style=\\"font-family\: Comic Sans MS\;\\">Az erdei tiszt&aacute\;son nagy az izgalom\, az erdő lak&oacute\;i <span style=\\"color\: rgb(255\, 0\, 0)\;\\"><b>Mikul&aacute\;s</b></span> &eacute\;rkez&eacute\;s&eacute\;t v&aacute\;rj&aacute\;k. R&oacute\;ka Rudi elhat&aacute\;rozza\, megakad&aacute\;lyozza azt\, hogy az erdő apr&oacute\; n&eacute\;pe tal&aacute\;lkozhasson t&eacute\;lap&oacute\;val&hellip\;</span></span></p>
 <p class=\\"rtecenter\\"><span style=\\"color\: rgb(0\, 136\, 0)\;\\"><span style=\\"font-family\: Comic Sans MS\;\\">A Mikul&aacute\;s műsor ut&aacute\;n tal&aacute\;lkozhattok a Mikul&aacute\;ssal is!</span></span></p>
 <p class=\\"rtejustify\\"><span style=\\"color\: rgb(0\, 136\, 0)\;\\"><span style=\\"font-family\: Comic Sans MS\;\\"><b>Időpont\:</b> 2008. december 6. (szombat) 10 &oacute\;ra<br />
 <b>Helysz&iacute\;n\:</b> Verseghy Ferenc Megyei K&ouml\;nyvt&aacute\;r &eacute\;s Művelőd&eacute\;si Int&eacute\;zet\; Szolnok\, Kossuth t&eacute\;r 2.</span></span></p>
 <p class=\\"rteright\\"><span style=\\"color\: rgb(0\, 136\, 0)\;\\"><span style=\\"font-family\: Comic Sans MS\;\\">Mindenkit szeretettel v&aacute\;runk\,<br />
 hozz&aacute\;tok magatokkal testv&eacute\;reteket\, bar&aacute\;taitokat is!</span></span></p>
 <p class=\\"rtecenter\\"><b><span style=\\"color\: rgb(0\, 136\, 0)\;\\"><span style=\\"font-family\: Comic Sans MS\;\\">A bel&eacute\;p&eacute\;s ingyenes!</span></span></b><br />
 &nbsp\;</p>
END:VEVENT
END:VCALENDAR
