BEGIN:VCALENDAR
VERSION:2.0
METHOD:PUBLISH
X-WR-CALNAME:VFEK |  június 23 2008- június 30 2008
PRODID:-//strange bird labs//Drupal iCal API//EN
BEGIN:VEVENT
DTSTAMP;VALUE=DATE-TIME:20260420T125106Z
DTSTART;VALUE=DATE-TIME:20080616T070000Z
DTEND;VALUE=DATE-TIME:20080627T150000Z
UID:http://portal.vfmk.hu/020420080611
URL;VALUE=URI:http://portal.vfmk.hu/020420080611
SUMMARY:Játéktábor általános iskolásoknak
DESCRIPTION:<h2 class=\\"rtecenter\\">A Verseghy Ferenc Megyei K&ouml\;nyvt&aacute\;r &eacute\;s Művelőd&eacute\;si Int&eacute\;zet Gyermekk&ouml\;nyvt&aacute\;ra</h2>
 <p class=\\"rtecenter\\"><b>2008. j&uacute\;nius 16-t&oacute\;l 20-ig\, valamint 2008. j&uacute\;nius 23-t&oacute\;l 27-ig\,<br />
 naponta 8.00-16.00-ig</b></p>
 <p class=\\"rtecenter\\"><i><b>napk&ouml\;zis t&aacute\;bort szervez az &aacute\;ltal&aacute\;nos iskol&aacute\;k als&oacute\; tagozatosai sz&aacute\;m&aacute\;ra.</b></i></p>
 <p><u>A t&aacute\;bor programja\:</u></p>
 <ul>
     <li>T&aacute\;bornyit&oacute\; ismerked&eacute\;si j&aacute\;t&eacute\;k</li>
     <li>J&aacute\;t&eacute\;kos vet&eacute\;lkedők</li>
     <li>Mesebeli k&eacute\;zműves h&aacute\;z</li>
     <li>Szabadt&eacute\;ri program a j&aacute\;tsz&oacute\;t&eacute\;ren</li>
     <li>Kir&aacute\;ndul&aacute\;s a v&aacute\;rosban (Damjanich J&aacute\;nos M&uacute\;zeum\, Rep&uuml\;lőm&uacute\;zeum)</li>
     <li>Diafilmvet&iacute\;t&eacute\;s</li>
 </ul>
 <p><u>R&eacute\;szv&eacute\;teli d&iacute\;j\:</u> az eb&eacute\;d k&ouml\;lts&eacute\;ge<br />
 <u>Jelentkez&eacute\;si hat&aacute\;ridő\:</u> 2008. j&uacute\;nius 12.</p>
 <p>Tov&aacute\;bbi inform&aacute\;ci&oacute\; k&eacute\;rhető szem&eacute\;lyesen a k&ouml\;nyvt&aacute\;rban vagy <br />
 telefonon az 56/510-110 (47-es) mell&eacute\;ken.</p>
 <p>Helysz&iacute\;n\: Verseghy Ferenc Megyei K&ouml\;nyvt&aacute\;r &eacute\;s Művelőd&eacute\;si Int&eacute\;zet<br />
 Szolnok\, Kossuth t&eacute\;r 2.</p>
 <p class=\\"rteright\\"><i>Mindenkit szeretettel v&aacute\;runk\, hozz&aacute\;tok magatokkal testv&eacute\;reteket\, bar&aacute\;taitokat is!</i></p>
END:VEVENT
BEGIN:VEVENT
DTSTAMP;VALUE=DATE-TIME:20260420T125106Z
DTSTART;VALUE=DATE-TIME:20080626T160000Z
DTEND;VALUE=DATE-TIME:20080725T170000Z
UID:http://portal.vfmk.hu/node/581
URL;VALUE=URI:http://portal.vfmk.hu/node/581
SUMMARY:Csidér Bálint kiállítása
DESCRIPTION:<p class=\\"rtecenter\\"><span style=\\"font-size\: small\;\\"><span style=\\"font-family\: Verdana\;\\">Tisztelettel megh&iacute\;vjuk<br />
 a Verseghy Ferenc Megyei K&ouml\;nyvt&aacute\;r &eacute\;s Művelőd&eacute\;si Int&eacute\;zet<br />
 Műv&eacute\;szeti Szalonj&aacute\;ba</span></span></p>
 <p class=\\"rtecenter\\"><b><span style=\\"font-size\: small\;\\"><span style=\\"font-family\: Verdana\;\\">2008. j&uacute\;nius 26-&aacute\;n 17.00</span></span></b><span style=\\"font-size\: small\;\\"><span style=\\"font-family\: Verdana\;\\"> &oacute\;r&aacute\;ra</span></span></p>
 <p class=\\"rtecenter\\"><b><span style=\\"font-size\: small\;\\"><span style=\\"font-family\: Verdana\;\\">CSID&Eacute\;R B&Aacute\;LINT</span></span></b><span style=\\"font-size\: small\;\\"><span style=\\"font-family\: Verdana\;\\"><br />
 fot&oacute\;műv&eacute\;sz</span></span></p>
 <p class=\\"rtecenter\\"><span style=\\"font-size\: small\;\\"><span style=\\"font-family\: Verdana\;\\">&quot\;Pixelgrafika&quot\; c. fot&oacute\;ki&aacute\;ll&iacute\;t&aacute\;s&aacute\;nak<br />
 megnyit&aacute\;s&aacute\;ra.</span></span></p>
 <p class=\\"rteleft\\"><span style=\\"font-size\: small\;\\"><span style=\\"font-family\: Verdana\;\\">A ki&aacute\;ll&iacute\;t&aacute\;st <b>dr. Horv&aacute\;th L&aacute\;szl&oacute\;</b> megyei m&uacute\;zeumigazgat&oacute\; nyitja meg.</span></span></p>
END:VEVENT
END:VCALENDAR
