BEGIN:VCALENDAR
VERSION:2.0
METHOD:PUBLISH
X-WR-CALNAME:VFEK |  május 17 2008- június 16 2008
PRODID:-//strange bird labs//Drupal iCal API//EN
BEGIN:VEVENT
DTSTAMP;VALUE=DATE-TIME:20260421T020551Z
DTSTART;VALUE=DATE-TIME:20080429T150000Z
DTEND;VALUE=DATE-TIME:20080530T170000Z
UID:http://portal.vfmk.hu/01112008040801
URL;VALUE=URI:http://portal.vfmk.hu/01112008040801
SUMMARY:Király György kiállítása
DESCRIPTION:<p class=\\"rtejustify\\">Kir&aacute\;ly Gy&ouml\;rgy festm&eacute\;nyeinek ki&aacute\;ll&iacute\;t&aacute\;sa m&aacute\;jus 15-ig tekinthető meg a Műv&eacute\;szeti Szalonban.</p>
 <p class=\\"rtejustify\\"><b>A műv&eacute\;sz &iacute\;rta &ouml\;nmag&aacute\;r&oacute\;l\:</b><br />
 <i>1982-ben Szolnokon sz&uuml\;lettem. Jelenleg v&eacute\;gzős festő szakos hallgat&oacute\; vagyok a Magyar K&eacute\;pzőműv&eacute\;szeti Egyetemen.<br />
 Mestereim k&ouml\;z&uuml\;l kiemeln&eacute\;m Mihail Volkov\, F&uuml\;zes Gergely &eacute\;s Nagy G&aacute\;bor nev&eacute\;t.<br />
 2007-ben Barcsay-d&iacute\;jazott lettem\, majd Erasmus &ouml\;szt&ouml\;nd&iacute\;jjal Olaszorsz&aacute\;gban festhettem.<br />
 Nagyon &ouml\;r&uuml\;l&ouml\;k\, hogy bemutatkozhatom sz&uuml\;lőv&aacute\;rosomban.</i></p>
 <p class=\\"rteright\\"><i>Kir&aacute\;ly Gy&ouml\;rgy</i><br />
 &nbsp\;</p>
END:VEVENT
BEGIN:VEVENT
DTSTAMP;VALUE=DATE-TIME:20260421T020551Z
DTSTART;VALUE=DATE-TIME:20080524T090000Z
DTEND;VALUE=DATE-TIME:20080524T120000Z
UID:http://portal.vfmk.hu/102008051301
URL;VALUE=URI:http://portal.vfmk.hu/102008051301
SUMMARY:GYERMEKNAPI CSALÁDI DÉLELŐTT A KÖNYVTÁRBAN!
DESCRIPTION:<p class=\\"rtejustify\\"><b>10.00 &oacute\;ra\:<br />
 </b>A nagyk&ouml\;rűi B&oacute\;bita b&aacute\;bcsoport előad&aacute\;sa. Toj&aacute\;smese &eacute\;s Sz&eacute\;csi Magda\: Cup&aacute\;krede (cig&aacute\;ny n&eacute\;pmese)<br />
 c&iacute\;mű b&aacute\;belőad&aacute\;st n&eacute\;zhetik meg az &eacute\;rdeklődő gyerekek &eacute\;s sz&uuml\;leik.</p>
 <p class=\\"rtejustify\\"><b>Helysz&iacute\;n\:</b> Gyermekk&ouml\;nyvt&aacute\;runk mesebirodalm&aacute\;nak k&ouml\;zepe</p>
 <p class=\\"rtejustify\\"><b>10.00 &oacute\;ra\:<br />
 </b>Gyermekk&ouml\;nyvt&aacute\;runk Mesebirodalm&aacute\;t h&aacute\;rom s&aacute\;rk&aacute\;ny gal&aacute\;d m&oacute\;don m&eacute\;g mindig fogva tartja &eacute\;s k&ouml\;nyveink porr&aacute\; &eacute\;get&eacute\;s&eacute\;vel fenyegetőznek.<br />
 Olyan j&aacute\;t&eacute\;kos kedvű csal&aacute\;dok jelentkez&eacute\;s&eacute\;t v&aacute\;rjuk\, akik eszess&eacute\;g&uuml\;kkel\, furfangoss&aacute\;gukkal &eacute\;s b&aacute\;tors&aacute\;gukkal legyőzik a s&aacute\;rk&aacute\;nyokat.</p>
 <p class=\\"rtejustify\\">Jelentkez&eacute\;s szem&eacute\;lyesen a gyermekk&ouml\;nyvt&aacute\;rban\, telefonon az (56) 510-110 /47-es mell&eacute\;ken\, e-mailen <a href=\\"mailto\:gykv@vfmk.hu\\">gykv@vfmk.hu</a>.</p>
 <p class=\\"rtejustify\\"><b>A p&aacute\;rbaj helysz&iacute\;ne\:</b> Gyermekk&ouml\;nyvt&aacute\;runk olvas&oacute\;terme</p>
 <p class=\\"rtejustify\\">A p&aacute\;rbajt sikeresen teljes&iacute\;tő csapatok meglepet&eacute\;sben r&eacute\;szes&uuml\;lnek!</p>
END:VEVENT
BEGIN:VEVENT
DTSTAMP;VALUE=DATE-TIME:20260421T020551Z
DTSTART;VALUE=DATE-TIME:20080602T090000Z
DTEND;VALUE=DATE-TIME:20080605T160000Z
UID:http://portal.vfmk.hu/03022008060205
URL;VALUE=URI:http://portal.vfmk.hu/03022008060205
SUMMARY:Ünnepi Könyvhét > Abádszalók
DESCRIPTION:<p class=\\"rteright\\"><b>Ember M&aacute\;ria V&aacute\;rosi K&ouml\;nyvt&aacute\;r</b></p><p class=\\"rtejustify\\"><u><b>j&uacute\;nius 2-5-ig\:</b></u><br />Megbocs&aacute\;t&aacute\;s hete\, a k&eacute\;sedelmi d&iacute\;jak elenged&eacute\;se\;<br />K&ouml\;nyvv&aacute\;s&aacute\;r a leg&uacute\;jabb k&ouml\;nyvekből a Szalay K&ouml\;nyvek t&aacute\;mogat&aacute\;s&aacute\;val\;<br />&Oacute\;ri&aacute\;s kif&uuml\;ggesztett keresztrejtv&eacute\;ny v&aacute\;rja az &eacute\;rdeklődőket\, a megfejt&eacute\;s soraib&oacute\;l G&aacute\;rdonyi G&eacute\;za k&ouml\;nyvekkel kapcsolatos aforizm&aacute\;ja lesz olvashat&oacute\;.<br /><br /><u><b>j&uacute\;nius 2.\:</b></u><br />Olcs&oacute\; k&ouml\;nyvv&aacute\;s&aacute\;r a k&ouml\;nyvt&aacute\;r előtti t&eacute\;ren.</p><p class=\\"rtejustify\\"><u><b>j&uacute\;nius 3. 10.00</b></u><br />Az ab&aacute\;dszal&oacute\;ki Kov&aacute\;cs Mih&aacute\;ly &Aacute\;ltal&aacute\;nos &eacute\;s Műv&eacute\;szeti Iskola b&aacute\;b-tanszakosainak <i>A H&aacute\;rom ny&uacute\;l</i>\, valamint <i>A t&uuml\;cs&ouml\;k &eacute\;s a hangya</i> c&iacute\;mű &aacute\;rny-b&aacute\;bj&aacute\;t&eacute\;k előad&aacute\;s&aacute\;t tekinthetik meg kicsik &eacute\;s nagyok egyar&aacute\;nt.</p><p class=\\"rtejustify\\"><u><b>j&uacute\;nius 4.</b></u><br />Kedvenc mes&eacute\;m c&iacute\;mmel aszfaltrajzverseny az &aacute\;ltal&aacute\;nos iskola als&oacute\; tagozatosai sz&aacute\;m&aacute\;ra a k&ouml\;nyvt&aacute\;r előtti t&eacute\;ren.<br /><br /><u><b>j&uacute\;nius 5.<br /></b></u>Amatőr vers&iacute\;r&oacute\;k tal&aacute\;lkoz&oacute\;ja a k&ouml\;nyvt&aacute\;r olvas&oacute\;term&eacute\;ben.<br />Az Ab&aacute\;dszal&oacute\;ki Kalend&aacute\;rium 2009. előzetese<br />&nbsp\;</p>
END:VEVENT
BEGIN:VEVENT
DTSTAMP;VALUE=DATE-TIME:20260421T020551Z
DTSTART;VALUE=DATE-TIME:20080602T090000Z
DTEND;VALUE=DATE-TIME:20080609T150000Z
UID:http://portal.vfmk.hu/03022008060201
URL;VALUE=URI:http://portal.vfmk.hu/03022008060201
SUMMARY:Ünnepi Könyvhét > Marfű
DESCRIPTION:<p class=\\"rteright\\"><b>V&aacute\;rosi Művelőd&eacute\;si K&ouml\;zpont &eacute\;s K&ouml\;nyvt&aacute\;r Martfű</b></p><p><u><b>j&uacute\;nius 2.\, 10.00</b></u></p><p>A NAGY MACK&Oacute\;KALAND<br />Milne Micimack&oacute\; c&iacute\;mű reg&eacute\;nye alapj&aacute\;n<br />vet&eacute\;lkedő 3. oszt&aacute\;lyos &quot\;Kalandoroknak&quot\;</p><p><u><b>j&uacute\;nius 2.\, 14.00</b></u></p><p>M&Aacute\;TY&Aacute\;S kir&aacute\;ly mozija<br />Diafilmvet&iacute\;t&eacute\;s a gyerekk&ouml\;nyvt&aacute\;rban.</p><p><u><b>j&uacute\;nius 9.\, 15.30</b></u></p><p>AMIKOR &Eacute\;N M&Eacute\;G KISL&Aacute\;NY VOLTAM...<br />c&iacute\;mmel felid&eacute\;zz&uuml\;k nagyany&aacute\;ink &eacute\;des- b&uacute\;s olvasm&aacute\;nyait &eacute\;s nagyap&aacute\;ink ifj&uacute\;kori kalandreg&eacute\;nyeit<br />Nosztalgia k&ouml\;nyvki&aacute\;ll&iacute\;t&aacute\;s...&nbsp\;cs&iacute\;kos... p&ouml\;tty&ouml\;s...&nbsp\;delfin... sorozatok k&ouml\;nyvei<br />Kider&uuml\;l\, hogy nincs &uacute\;j a nap alatt!</p><p>ŐK M&Aacute\;R OLVAST&Aacute\;K. &Eacute\;S TE?<br />K&ouml\;nnyű kis j&aacute\;t&eacute\;k r&eacute\;gi idők nagy olvasm&aacute\;nyaib&oacute\;l.</p><p class=\\"rtecenter\\">A REJTV&Eacute\;NYFEJTŐK KLUBJA\, a LAPOZ&Oacute\; OLVAS&Oacute\;K&Ouml\;R &eacute\;s az IFJ&Uacute\; K&Ouml\;NYVMOLYOK T&Aacute\;RSAS&Aacute\;G&Aacute\;NAK k&ouml\;z&ouml\;s rendezv&eacute\;nye.<br />&nbsp\;</p>
END:VEVENT
BEGIN:VEVENT
DTSTAMP;VALUE=DATE-TIME:20260421T020551Z
DTSTART;VALUE=DATE-TIME:20080602T090000Z
DTEND;VALUE=DATE-TIME:20080606T170000Z
UID:http://portal.vfmk.hu/03022008060206
URL;VALUE=URI:http://portal.vfmk.hu/03022008060206
SUMMARY:Ünnepi Könyvhét > Újszász
DESCRIPTION:<p class=\\"rteright\\"><b>V&aacute\;rosi K&ouml\;nyvt&aacute\;r</b></p><p class=\\"rtejustify\\">Minden meghirdetett lehetős&eacute\;g 10-18 &oacute\;r&aacute\;ig vehető ig&eacute\;nybe minden nap.</p><ul><li>&nbsp\;Kedvezm&eacute\;nyes k&ouml\;nyvv&aacute\;s&aacute\;r - &uacute\;j k&ouml\;nyveket &aacute\;rus&iacute\;tunk kedvezm&eacute\;nnyel\, selejtezett k&ouml\;nyveket 50\,-Ft/db &aacute\;ron\;</li><li>Megbocs&aacute\;t&aacute\;s hete - akinek lej&aacute\;rt k&ouml\;nyv- &eacute\;s videokazetta tartoz&aacute\;sa van\, az ezen a h&eacute\;ten k&eacute\;sedelmi d&iacute\;j felsz&aacute\;m&iacute\;t&aacute\;sa n&eacute\;lk&uuml\;l visszhozhatja azokat a k&ouml\;nyvt&aacute\;rba.</li><li>Aj&aacute\;nd&eacute\;kot kap aki ezen a h&eacute\;ten iratkozik be\: v&aacute\;laszthat r&eacute\;gebbi &uacute\;js&aacute\;gsz&aacute\;mok k&ouml\;z&uuml\;l\;</li><li>Ingyenes beiratkoz&aacute\;s - Minden &uacute\;jsz&aacute\;szi lakos ingyenesen iratkozhat be ezen a h&eacute\;ten a k&ouml\;nyvt&aacute\;rba.</li></ul><p>&nbsp\;</p>
END:VEVENT
BEGIN:VEVENT
DTSTAMP;VALUE=DATE-TIME:20260421T020551Z
DTSTART;VALUE=DATE-TIME:20080603T160000Z
DTEND;VALUE=DATE-TIME:20080606T160000Z
UID:http://portal.vfmk.hu/03022008060203
URL;VALUE=URI:http://portal.vfmk.hu/03022008060203
SUMMARY:Ünnepi Könyvhét > Szolnok > Megyei Könyvtár
DESCRIPTION:<table width=\\"100%\\" cellspacing=\\"1\\" cellpadding=\\"1\\" border=\\"0\\" align=\\"center\\">
     <tbody>
         <tr>
             <td valign=\\"top\\"><b>j&uacute\;nius 3. - 17.00 &oacute\;ra</b></td>
             <td><b>Bosny&aacute\;k Zsuzsa</b> ki&aacute\;ll&iacute\;t&aacute\;s&aacute\;nak megnyit&oacute\;ja<br />
             Helysz&iacute\;n\: Műv&eacute\;szeti Szalon&nbsp\;</td>
         </tr>
         <tr>
             <td valign=\\"top\\"><b>j&uacute\;nius 5. - 16.00 &oacute\;ra</b></td>
             <td><i>&quot\;N&eacute\;zni a t&aacute\;jat&quot\;&nbsp\;</i>c&iacute\;mű k&ouml\;tet&nbsp\;bemutat&oacute\;ja<br />
             K&ouml\;zreműk&ouml\;dik\:&nbsp\;<b>Jenei Gyula k&ouml\;ltő&nbsp\;&eacute\;s Csabai Istv&aacute\;n fot&oacute\;műv&eacute\;sz\,</b> a k&ouml\;tet szerzői<br />
             A besz&eacute\;lget&eacute\;st vezeti\:&nbsp\;<b>S. T&oacute\;th Anik&oacute\;&nbsp\;</b>szerkesztő-riporter<br />
             Helysz&iacute\;n\: Műv&eacute\;szeti Szalon&nbsp\;</td>
         </tr>
         <tr>
             <td valign=\\"top\\">&nbsp\;<b>j&uacute\;nius 6. - 10.00 &oacute\;ra</b></td>
             <td><b>&Iacute\;r&oacute\;-olvas&oacute\; tal&aacute\;lkoz&oacute\; Feh&eacute\;r Majzik&nbsp\;Sarolta&nbsp\;&iacute\;r&oacute\;nővel</b><br />
             A&nbsp\;<i>&quot\;Sanyi man&oacute\; &eacute\;rkez&eacute\;se&quot\; </i>c&iacute\;mű k&ouml\;tetr&eacute\;szlet bemutat&oacute\;ja&nbsp\;&nbsp\;meseposzt&oacute\; technik&aacute\;val<br />
             Helysz&iacute\;n\: Gyermekk&ouml\;nyvt&aacute\;r olvas&oacute\;terme</td>
         </tr>
         <tr>
             <td valign=\\"top\\"><b>j&uacute\;nius 6. - 14.00 &oacute\;ra</b></td>
             <td><b>&quot\;Itt voln&eacute\;k &eacute\;n otthon&quot\; c&iacute\;mű k&ouml\;tet bemutat&oacute\;ja<br />
             </b>K&ouml\;zreműk&ouml\;dik\: <b>Jurkovics J&aacute\;nos\, </b>a k&ouml\;tet szerzője<br />
             A szerzőt bemutatja\: <b>Jenei Gyula</b>\, az ESŐ c&iacute\;mű irodalmi foly&oacute\;irat főszerkesztője<br />
             Helysz&iacute\;n\: Műv&eacute\;szeti Szalon</td>
         </tr>
         <tr>
             <td valign=\\"top\\"><b>j&uacute\;nius 6. - 16.00 &oacute\;ra</b></td>
             <td><b>Szathm&aacute\;ry Gy&ouml\;rgy-eml&eacute\;kest</b> a k&ouml\;ltő sz&uuml\;let&eacute\;s&eacute\;nek 80. &eacute\;vfordul&oacute\;ja tisztelet&eacute\;re<br />
             A k&ouml\;ltőre <b>Szűcs S&aacute\;ndor</b>\, a Verseghy Ferenc Gimn&aacute\;zium tan&aacute\;ra eml&eacute\;kezik<br />
             K&ouml\;zreműk&ouml\;dnek\: <b>B&aacute\;nfi Mikl&oacute\;s</b> &eacute\;s <b>Horv&aacute\;th Elek</b> előad&oacute\;műv&eacute\;szek<br />
             Helysz&iacute\;n\: Műv&eacute\;szeti Szalon</td>
         </tr>
     </tbody>
 </table>
 <p>&nbsp\;</p>
END:VEVENT
BEGIN:VEVENT
DTSTAMP;VALUE=DATE-TIME:20260421T020551Z
DTSTART;VALUE=DATE-TIME:20080604T090000Z
DTEND;VALUE=DATE-TIME:20080604T140000Z
UID:http://portal.vfmk.hu/03022008060204
URL;VALUE=URI:http://portal.vfmk.hu/03022008060204
SUMMARY:A 79. Ünnepi Könyvhét és 7. Gyermekkönyvnapok megyei megnyitója
DESCRIPTION:<h3 class=\\"rtecenter\\">Megyei megnyit&oacute\;<br />2008. j&uacute\;nius 4. 10.00<br />T&uacute\;rkeve V&aacute\;rosi Művelőd&eacute\;si Int&eacute\;zm&eacute\;ny &eacute\;s K&ouml\;nyvt&aacute\;r</h3><table cellspacing=\\"1\\" cellpadding=\\"1\\" width=\\"100%\\" border=\\"0\\"><tbody><tr><td valign=\\"top\\"><b>10.00</b></td><td class=\\"rtejustify\\"><b>K&Ouml\;SZ&Ouml\;NTŐK<br />Cseh S&aacute\;ndor\, </b>T&uacute\;rkeve V&aacute\;ros Polg&aacute\;rmestere<br /><b>Bertalann&eacute\; Kov&aacute\;cs Piroska\, </b>a J&aacute\;sz-Nagykun-Szolnok Megyei Verseghy Ferenc K&ouml\;nyvt&aacute\;r &eacute\;s Művelőd&eacute\;si Int&eacute\;zet igazgat&oacute\;ja</td></tr><tr><td colspan=\\"2\\"><b>SZAKMAI PROGRAM</b></td></tr><tr><td valign=\\"top\\"><b>10.15</b></td><td><b>A k&ouml\;nyvt&aacute\;ri minős&eacute\;gfejleszt&eacute\;s hazai helyzete<br /></b>Előad&oacute\;\: <b>Dr. Skaliczki Judit</b>\, Oktat&aacute\;si &eacute\;s Kultur&aacute\;lis Miniszt&eacute\;rium K&ouml\;nyvt&aacute\;ri Oszt&aacute\;ly&aacute\;nak főoszt&aacute\;lyvezető-helyettese</td></tr><tr><td valign=\\"top\\"><b>11.00</b></td><td><b>A minős&eacute\;g&eacute\;rt&eacute\;kel&eacute\;s m&oacute\;dszerei a k&ouml\;nyvt&aacute\;rakban<br /></b>Előad&oacute\;\: <b>Zalain&eacute\; dr. Kov&aacute\;cs &Eacute\;va</b>\, Entz Ferenc K&ouml\;nyvt&aacute\;r &eacute\;s Lev&eacute\;lt&aacute\;r főigazgat&oacute\;ja</td></tr><tr><td valign=\\"top\\"><b>11.45</b></td><td><b>Konzult&aacute\;ci&oacute\;\, k&eacute\;rd&eacute\;sek megvitat&aacute\;sa</b></td></tr><tr><td valign=\\"top\\">&nbsp\;</td><td>&nbsp\;</td></tr><tr><td valign=\\"top\\">&nbsp\;</td><td><b>Nyugd&iacute\;jba vonul&aacute\;sa alkalm&aacute\;b&oacute\;l elk&ouml\;sz&ouml\;n\:<br /></b>B. Budai Judit\, a T&uacute\;rkevei V&aacute\;rosi Művelőd&eacute\;si Int&eacute\;zm&eacute\;ny &eacute\;s K&ouml\;nyvt&aacute\;r igazgat&oacute\;ja</td></tr><tr><td valign=\\"top\\">&nbsp\;</td><td>&nbsp\;</td></tr><tr><td valign=\\"top\\"><b>13.30</b></td><td><b>Az &Uuml\;nnepi K&ouml\;nyvhetet megnyitja\:<br />Fej&eacute\;r Andor\, a J&aacute\;sz-Nagykun-Szolnok Megyei K&ouml\;zgyűl&eacute\;s Eln&ouml\;ke<br /></b>Helysz&iacute\;n\: Polg&aacute\;rmesteri Hivatal d&iacute\;szterme</td></tr><tr><td valign=\\"top\\"><b>13.40</b></td><td><b>T&uacute\;rkevei előad&oacute\;k &uuml\;nnepi műsora<br /></b>K&ouml\;zreműk&ouml\;dik <b>Farkas Rozika</b> n&oacute\;ta- &eacute\;s n&eacute\;pdal&eacute\;nekes<br />Verset mond\: <b>Filkor D&aacute\;vid</b> &eacute\;s <b>Sipos Zsolt</b></td></tr><tr><td valign=\\"top\\"><b>14.00</b></td><td><b>Hűv&ouml\;sv&ouml\;lgyi Ildik&oacute\;\: Kaleidoszk&oacute\;p</b> c&iacute\;mű előad&aacute\;sa</td></tr><tr><td valign=\\"top\\"><b>15.00</b></td><td><b>A rendezv&eacute\;ny z&aacute\;r&aacute\;sa</b></td></tr></tbody></table><p>&nbsp\;<b><u>Rendezők\:</u></b></p><ul><li>A T&uacute\;rkevei V&aacute\;rosi Művelőd&eacute\;si Int&eacute\;zm&eacute\;ny &eacute\;s K&ouml\;nyvt&aacute\;r</li><li>T&uacute\;rkeve V&aacute\;ros &Ouml\;nkorm&aacute\;nyzata</li><li>J&aacute\;sz-Nagykun-Szolnok Megye &Ouml\;nkorm&aacute\;nyzata</li><li>J&aacute\;sz-Nagykun-Szolnok Megyei Verseghy Ferenc K&ouml\;nyvt&aacute\;r &eacute\;s Művelőd&eacute\;si Int&eacute\;zet</li></ul><p>&nbsp\;</p>
END:VEVENT
BEGIN:VEVENT
DTSTAMP;VALUE=DATE-TIME:20260421T020551Z
DTSTART;VALUE=DATE-TIME:20080605T160000Z
DTEND;VALUE=DATE-TIME:20080605T170000Z
UID:http://portal.vfmk.hu/03022008060202
URL;VALUE=URI:http://portal.vfmk.hu/03022008060202
SUMMARY:Ünnepi Könyvhét > Jászberény
DESCRIPTION:<p class=\\"rtecenter\\">A V&aacute\;rosi K&ouml\;nyvt&aacute\;r munkat&aacute\;rsai<br />&eacute\;s Sinka Istv&aacute\;nn&eacute\;<br />tisztelettel megh&iacute\;vj&aacute\;k &Ouml\;nt &eacute\;s ismerőseit a<br />2008. j&uacute\;nius 5-&eacute\;n (cs&uuml\;t&ouml\;rt&ouml\;k) 17 &oacute\;rakor kezdődő</p><p class=\\"rtecenter\\"><span style=\\"font-size\: medium\\"><b>gombki&aacute\;ll&iacute\;t&aacute\;s- megnyit&oacute\;ra</b></span></p><p class=\\"rtecenter\\"><span style=\\"font-size\: medium\\"><span style=\\"font-size\: small\\">Helye\:<br />V&aacute\;rosi K&ouml\;nyvt&aacute\;r &eacute\;s Inform&aacute\;ci&oacute\;s K&ouml\;zpont<br />kamaraterme<br />J&aacute\;szber&eacute\;ny\, Bercs&eacute\;nyi &uacute\;t 1.</span></span></p>
END:VEVENT
BEGIN:VEVENT
DTSTAMP;VALUE=DATE-TIME:20260421T020551Z
DTSTART;VALUE=DATE-TIME:20080606T150000Z
DTEND;VALUE=DATE-TIME:20080606T160000Z
UID:http://portal.vfmk.hu/03022008060207
URL;VALUE=URI:http://portal.vfmk.hu/03022008060207
SUMMARY:Ünnepi Könyvhét > Karcag
DESCRIPTION:<p class=\\"rteright\\"><b>V&aacute\;rosi Csokonai K&ouml\;nyvt&aacute\;r</b></p><p class=\\"rtecenter\\">Tisztelettel &eacute\;rtes&iacute\;tj&uuml\;k\, hogy a<br />Karcagi H&iacute\;rmond&oacute\; has&aacute\;bjain folytat&aacute\;sokban k&ouml\;z&ouml\;lt<b><br />Elek Gy&ouml\;rgy </b>(Ruzicska Ferenc) &aacute\;ltal meg&iacute\;rt</p><p class=\\"rtecenter\\"><b>V&aacute\;rost&ouml\;rt&eacute\;net &ouml\;tvenk&eacute\;t t&eacute\;telben<br />(Karcag v&aacute\;ros t&ouml\;rt&eacute\;nete 1506-1950 k&ouml\;z&ouml\;tt)</b></p><p class=\\"rtecenter\\"><b>k&ouml\;nyv alakban is megjelent.</b></p><p class=\\"rtecenter\\">Szeretettel megh&iacute\;vjuk &Ouml\;nt &eacute\;s ismerőseit a k&ouml\;nyv bemutat&oacute\;j&aacute\;ra\, amely<br /><b>2008. j&uacute\;nius 6-&aacute\;n (p&eacute\;nteken) 16 &oacute\;rakor a V&aacute\;rosi Csokonai K&ouml\;nyvt&aacute\;rban<br /></b>ker&uuml\;l megrendez&eacute\;sre. A k&ouml\;nyvet &iacute\;r&oacute\;ja\, <b>Ruzicska Ferenc mutatja be.</b></p><p class=\\"rteright\\">&nbsp\;</p>
END:VEVENT
END:VCALENDAR
